BEGIN:VCALENDAR
PRODID:brasil.gov.agenda
VERSION:1.0
BEGIN:VEVENT
DTSTART:20220208T080000Z
DTEND:20220208T090000Z
DCREATED:20220214T125649Z
UID:Compromisso-5a6182d07c94476798bc25b9b3522f74
SEQUENCE:0
LAST-MODIFIED:20220214T125649Z
SUMMARY:Reunião PROGEP e PROAD + DGI
DESCRIPTION:TransformaGov
LOCATION:Reitoria
PRIORITY:3
TRANSP:0
END:VEVENT
END:VCALENDAR
