BEGIN:VCALENDAR
PRODID:brasil.gov.agenda
VERSION:1.0
BEGIN:VEVENT
DTSTART:20220208T140000Z
DTEND:20220208T180000Z
DCREATED:20220214T125801Z
UID:Compromisso-2011bc4969b44059b96b1d8e8fe3dbba
SEQUENCE:0
LAST-MODIFIED:20220214T125801Z
SUMMARY:Despachos Internos
LOCATION:Reitoria
PRIORITY:3
TRANSP:0
END:VEVENT
END:VCALENDAR
