BEGIN:VCALENDAR
PRODID:brasil.gov.agenda
VERSION:1.0
BEGIN:VEVENT
DTSTART:20220207T140000Z
DTEND:20220207T160000Z
DCREATED:20220214T125436Z
UID:Compromisso-ab9ed6e3956644deb3db60afa9089c2e
SEQUENCE:0
LAST-MODIFIED:20220214T125436Z
SUMMARY:Webinário da Evolução: Indicadores de governança e gestão
LOCATION:Reitoria
PRIORITY:3
TRANSP:0
END:VEVENT
END:VCALENDAR
