BEGIN:VCALENDAR
PRODID:brasil.gov.agenda
VERSION:1.0
BEGIN:VEVENT
DTSTART:20220207T160000Z
DTEND:20220207T180000Z
DCREATED:20220214T125514Z
UID:Compromisso-e6621744fd484f5fac1b28fef4c58344
SEQUENCE:0
LAST-MODIFIED:20220214T125514Z
SUMMARY:Reunião FAMED e FCBS
DESCRIPTION:Planejamento de Especialidades em Saúde - Prédio da Odon
 tologia no Campus JK.
LOCATION:Reitoria
PRIORITY:3
TRANSP:0
END:VEVENT
END:VCALENDAR
