BEGIN:VCALENDAR
PRODID:brasil.gov.agenda
VERSION:1.0
BEGIN:VEVENT
DTSTART:20220207T080000Z
DTEND:20220207T120000Z
DCREATED:20220214T125406Z
UID:Compromisso-88e692d0ce434779b1bea63357e743e6
SEQUENCE:0
LAST-MODIFIED:20220214T125407Z
SUMMARY:266.ª reunião\, sendo a 114ª sessão  em caráter extraordinário do CONSU
LOCATION:Reitoria
PRIORITY:3
TRANSP:0
END:VEVENT
END:VCALENDAR
