BEGIN:VCALENDAR
PRODID:brasil.gov.agenda
VERSION:1.0
BEGIN:VEVENT
DTSTART:20220204T140000Z
DTEND:20220204T180000Z
DCREATED:20220214T124851Z
UID:Compromisso-dc5fb654e1514a92b36cd4fcfbfcd0da
SEQUENCE:0
LAST-MODIFIED:20220214T124851Z
SUMMARY:Despachos Internos
LOCATION:Reitoria
PRIORITY:3
TRANSP:0
END:VEVENT
END:VCALENDAR
