BEGIN:VCALENDAR
PRODID:brasil.gov.agenda
VERSION:1.0
BEGIN:VEVENT
DTSTART:20220203T120000Z
DTEND:20220203T203000Z
DCREATED:20220208T141451Z
UID:Compromisso-e0827241531a460982830ce5f69ea80b
SEQUENCE:0
LAST-MODIFIED:20220208T141451Z
SUMMARY:Viagem – Trecho – Brasília  à Diamantina
LOCATION:Reitoria
PRIORITY:3
TRANSP:0
END:VEVENT
END:VCALENDAR
