BEGIN:VCALENDAR
PRODID:brasil.gov.agenda
VERSION:1.0
BEGIN:VEVENT
DTSTART:20220203T080000Z
DTEND:20220203T120000Z
DCREATED:20220208T141412Z
UID:Compromisso-1c7858034a7a46daad3e42af078ce05c
SEQUENCE:0
LAST-MODIFIED:20220208T141412Z
SUMMARY:Reunião com Reitores em Brasília
LOCATION:Reitoria
PRIORITY:3
TRANSP:0
END:VEVENT
END:VCALENDAR
