BEGIN:VCALENDAR
PRODID:brasil.gov.agenda
VERSION:1.0
BEGIN:VEVENT
DTSTART:20220201T060000Z
DTEND:20220201T110000Z
DCREATED:20220208T140950Z
UID:Compromisso-50a3ed0af42e44a2a6daa2e3fb2a4db5
SEQUENCE:0
LAST-MODIFIED:20220208T140950Z
SUMMARY:Viagem - Trecho – Diamantina à Belo Horizonte
LOCATION:Reitoria
PRIORITY:3
TRANSP:0
END:VEVENT
END:VCALENDAR
