BEGIN:VCALENDAR
PRODID:brasil.gov.agenda
VERSION:1.0
BEGIN:VEVENT
DTSTART:20220201T150000Z
DTEND:20220201T200000Z
DCREATED:20220208T141058Z
UID:Compromisso-bd730df2113e468fa5d73fa211b9855d
SEQUENCE:0
LAST-MODIFIED:20220208T141058Z
SUMMARY:Viagem - Trecho – Belo Horizonte à Diamantina
LOCATION:Reitoria
PRIORITY:3
TRANSP:0
END:VEVENT
END:VCALENDAR
