BEGIN:VCALENDAR
PRODID:brasil.gov.agenda
VERSION:1.0
BEGIN:VEVENT
DTSTART:20220201T120000Z
DTEND:20220201T120000Z
DCREATED:20220208T141027Z
UID:Compromisso-3a3e0bc1db1e4ded8f24e9404d776bc0
SEQUENCE:0
LAST-MODIFIED:20220208T141027Z
SUMMARY:Reunião com o Secretário de Saúde do Estado de Minas Gerais
LOCATION:Reitoria
PRIORITY:3
TRANSP:0
END:VEVENT
END:VCALENDAR
