BEGIN:VCALENDAR
PRODID:brasil.gov.agenda
VERSION:1.0
BEGIN:VEVENT
DTSTART:20220131T140000Z
DTEND:20220131T160000Z
DCREATED:20220201T142909Z
UID:Compromisso-04710fd4fe0f48e8b14c74c302ecec3a
SEQUENCE:0
LAST-MODIFIED:20220201T142909Z
SUMMARY:Webinário Evolução: Estudantes e Servidores
LOCATION:Reitoria
PRIORITY:3
TRANSP:0
END:VEVENT
END:VCALENDAR
