BEGIN:VCALENDAR
PRODID:brasil.gov.agenda
VERSION:1.0
BEGIN:VEVENT
DTSTART:20220131T160000Z
DTEND:20220131T180000Z
DCREATED:20220201T142938Z
UID:Compromisso-f65d2a7ec0f444a3b041ae32ff211a1b
SEQUENCE:0
LAST-MODIFIED:20220201T142938Z
SUMMARY:Reunião PROACE
DESCRIPTION:Reestruturação
LOCATION:Reitoria
PRIORITY:3
TRANSP:0
END:VEVENT
END:VCALENDAR
