BEGIN:VCALENDAR
PRODID:brasil.gov.agenda
VERSION:1.0
BEGIN:VEVENT
DTSTART:20220131T100000Z
DTEND:20220131T120000Z
DCREATED:20220201T142825Z
UID:Compromisso-ef21e0bad8ef4b86a9cceb85aada069e
SEQUENCE:0
LAST-MODIFIED:20220201T142825Z
SUMMARY:Reunião Presidente do CONCUR e PGF
LOCATION:Reitoria
PRIORITY:3
TRANSP:0
END:VEVENT
END:VCALENDAR
