BEGIN:VCALENDAR
PRODID:brasil.gov.agenda
VERSION:1.0
BEGIN:VEVENT
DTSTART:20220128T083000Z
DTEND:20220128T093000Z
DCREATED:20220131T194019Z
UID:Compromisso-f8dfe950e1614cc9af914d2d4192f80e
SEQUENCE:0
LAST-MODIFIED:20220131T194019Z
SUMMARY:Reunião com Pró-Reitores
DESCRIPTION:Software TI de compilação de Atos Normativos
LOCATION:Reitoria
PRIORITY:3
TRANSP:0
END:VEVENT
END:VCALENDAR
