BEGIN:VCALENDAR
PRODID:brasil.gov.agenda
VERSION:1.0
BEGIN:VEVENT
DTSTART:20220128T080000Z
DTEND:20220128T083000Z
DCREATED:20220131T193938Z
UID:Compromisso-78c94bcb537a45878ebcb6735d8639ab
SEQUENCE:0
LAST-MODIFIED:20220131T193938Z
SUMMARY:Reunião com a PROGRAD
DESCRIPTION:Prazo de Mapeamento dos Processos
LOCATION:Reitoria
PRIORITY:3
TRANSP:0
END:VEVENT
END:VCALENDAR
