BEGIN:VCALENDAR
PRODID:brasil.gov.agenda
VERSION:1.0
BEGIN:VEVENT
DTSTART:20220128T140000Z
DTEND:20220128T180000Z
DCREATED:20220131T194108Z
UID:Compromisso-7e75f12bd19c4d919caf001c0076b93e
SEQUENCE:0
LAST-MODIFIED:20220131T194108Z
SUMMARY:Despachos Internos
LOCATION:Reitoria
PRIORITY:3
TRANSP:0
END:VEVENT
END:VCALENDAR
