BEGIN:VCALENDAR
PRODID:brasil.gov.agenda
VERSION:1.0
BEGIN:VEVENT
DTSTART:20220127T160000Z
DTEND:20220127T170000Z
DCREATED:20220131T193728Z
UID:Compromisso-caf1826cb5644e96864c2cd05bef2885
SEQUENCE:0
LAST-MODIFIED:20220131T193728Z
SUMMARY:Reunião PROGEP
DESCRIPTION:Força de Trabalho
LOCATION:Reitoria
PRIORITY:3
TRANSP:0
END:VEVENT
END:VCALENDAR
