BEGIN:VCALENDAR
PRODID:brasil.gov.agenda
VERSION:1.0
BEGIN:VEVENT
DTSTART:20220127T150000Z
DTEND:20220127T160000Z
DCREATED:20220131T193652Z
UID:Compromisso-b6b2f3d1b1334d93bbacab9baba18aba
SEQUENCE:0
LAST-MODIFIED:20220131T193652Z
SUMMARY:Reunião PROGEP e PGF
DESCRIPTION:Fortalecimento da Procuradoria Federal
LOCATION:Reitoria
PRIORITY:3
TRANSP:0
END:VEVENT
END:VCALENDAR
