BEGIN:VCALENDAR
PRODID:brasil.gov.agenda
VERSION:1.0
BEGIN:VEVENT
DTSTART:20220127T140000Z
DTEND:20220127T150000Z
DCREATED:20220131T193621Z
UID:Compromisso-eee0e6832f10424e817afb15763ba113
SEQUENCE:0
LAST-MODIFIED:20220131T193621Z
SUMMARY:Reunião com PROGEP\, PGF\, DASA e Equipe de Perícia PROACE
DESCRIPTION:Sucessivos afastamentos de servidores\, política de saúd
 e e ambiente de trabalho
LOCATION:Reitoria
PRIORITY:3
TRANSP:0
END:VEVENT
END:VCALENDAR
