BEGIN:VCALENDAR
PRODID:brasil.gov.agenda
VERSION:1.0
BEGIN:VEVENT
DTSTART:20220127T100000Z
DTEND:20220127T110000Z
DCREATED:20220131T193518Z
UID:Compromisso-b5a8cf4b62244673b98108641c5c85d1
SEQUENCE:0
LAST-MODIFIED:20220131T193518Z
SUMMARY:Reunião com o Leonel e SINCOMERCIOS
DESCRIPTION:Doação de Insumo laboratório
LOCATION:Reitoria
PRIORITY:3
TRANSP:0
END:VEVENT
END:VCALENDAR
