BEGIN:VCALENDAR
PRODID:brasil.gov.agenda
VERSION:1.0
BEGIN:VEVENT
DTSTART:20220127T090000Z
DTEND:20220127T100000Z
DCREATED:20220131T193437Z
UID:Compromisso-a2edb857ab2e4d05a881eb2399f74547
SEQUENCE:0
LAST-MODIFIED:20220131T193437Z
SUMMARY:Reunião com a Direção da FCBS
DESCRIPTION:Secretaria Geral
LOCATION:Reitoria
PRIORITY:3
TRANSP:0
END:VEVENT
END:VCALENDAR
