BEGIN:VCALENDAR
PRODID:brasil.gov.agenda
VERSION:1.0
BEGIN:VEVENT
DTSTART:20220127T110000Z
DTEND:20220127T120000Z
DCREATED:20220131T193534Z
UID:Compromisso-e8868e803781498bbded10f7219777b9
SEQUENCE:0
LAST-MODIFIED:20220131T193534Z
SUMMARY:Despachos Internos
LOCATION:Reitoria
PRIORITY:3
TRANSP:0
END:VEVENT
END:VCALENDAR
