BEGIN:VCALENDAR
PRODID:brasil.gov.agenda
VERSION:1.0
BEGIN:VEVENT
DTSTART:20220126T083000Z
DTEND:20220126T120000Z
DCREATED:20220201T142443Z
UID:Compromisso-3d7c250697c0482a873e4230810ac63d
SEQUENCE:0
LAST-MODIFIED:20220201T142443Z
SUMMARY:265ª reunião -150ª em caráter ordinário do CONSU
LOCATION:Reitoria
PRIORITY:3
TRANSP:0
END:VEVENT
END:VCALENDAR
