BEGIN:VCALENDAR
PRODID:brasil.gov.agenda
VERSION:1.0
BEGIN:VEVENT
DTSTART:20220126T143000Z
DTEND:20220126T180000Z
DCREATED:20220201T142515Z
UID:Compromisso-39c551f2ebcb4838aa57112b6bfbc626
SEQUENCE:0
LAST-MODIFIED:20220201T142515Z
SUMMARY:265ª reunião -150ª em caráter ordinário do CONSU
LOCATION:Reitoria
PRIORITY:3
TRANSP:0
END:VEVENT
END:VCALENDAR
