BEGIN:VCALENDAR
PRODID:brasil.gov.agenda
VERSION:1.0
BEGIN:VEVENT
DTSTART:20220125T100000Z
DTEND:20220125T120000Z
DCREATED:20220131T193136Z
UID:Compromisso-d84e5f3471e04859b474be425ba37bd5
SEQUENCE:0
LAST-MODIFIED:20220131T193136Z
SUMMARY:Reunião UFVJM e Ministério da Saúde
DESCRIPTION:TED Equipamentos
LOCATION:Reitoria
PRIORITY:3
TRANSP:0
END:VEVENT
END:VCALENDAR
