BEGIN:VCALENDAR
PRODID:brasil.gov.agenda
VERSION:1.0
BEGIN:VEVENT
DTSTART:20220125T080000Z
DTEND:20220125T100000Z
DCREATED:20220131T193104Z
UID:Compromisso-0e1932a09a8b48f0b1748d2f7f999e05
SEQUENCE:0
LAST-MODIFIED:20220131T193104Z
SUMMARY:Despachos Internos
LOCATION:Reitoria
PRIORITY:3
TRANSP:0
END:VEVENT
END:VCALENDAR
