BEGIN:VCALENDAR
PRODID:brasil.gov.agenda
VERSION:1.0
BEGIN:VEVENT
DTSTART:20220124T140000Z
DTEND:20220124T160000Z
DCREATED:20220124T122720Z
UID:Compromisso-e30e0504c17546a4adf7cb246447a724
SEQUENCE:0
LAST-MODIFIED:20220124T122720Z
SUMMARY:Webinário - Integração UFVJM
LOCATION:Reitoria
PRIORITY:3
TRANSP:0
END:VEVENT
END:VCALENDAR
