BEGIN:VCALENDAR
PRODID:brasil.gov.agenda
VERSION:1.0
BEGIN:VEVENT
DTSTART:20220124T160000Z
DTEND:20220124T163000Z
DCREATED:20220124T122800Z
UID:Compromisso-fbe0ab0580d84d60bfd1a3c4b8a07e01
SEQUENCE:0
LAST-MODIFIED:20220124T122800Z
SUMMARY:Reunião com Pró-Reitores e Diretores
DESCRIPTION:Convênio Saúde Digital Móvel
LOCATION:Reitoria
PRIORITY:3
TRANSP:0
END:VEVENT
END:VCALENDAR
