BEGIN:VCALENDAR
PRODID:brasil.gov.agenda
VERSION:1.0
BEGIN:VEVENT
DTSTART:20220124T163000Z
DTEND:20220124T173000Z
DCREATED:20220124T122903Z
UID:Compromisso-dfc6b6f89522482982e0d28712256870
SEQUENCE:0
LAST-MODIFIED:20220124T122903Z
SUMMARY:Reunião com DTI\, PROGEP e PROAD
DESCRIPTION:Demanda de Pessoal DTI
LOCATION:Reitoria
PRIORITY:3
TRANSP:0
END:VEVENT
END:VCALENDAR
