BEGIN:VCALENDAR
PRODID:brasil.gov.agenda
VERSION:1.0
BEGIN:VEVENT
DTSTART:20220124T083000Z
DTEND:20220124T120000Z
DCREATED:20220124T122651Z
UID:Compromisso-e7a2cf85fc5540b581edba5d57efb329
SEQUENCE:0
LAST-MODIFIED:20220124T122651Z
SUMMARY:31ª Reunião do Comitê de Governança\, Integridade\, Riscos e Controles Internos - CGIRC
LOCATION:Reitoria
PRIORITY:3
TRANSP:0
END:VEVENT
END:VCALENDAR
