BEGIN:VCALENDAR
PRODID:brasil.gov.agenda
VERSION:1.0
BEGIN:VEVENT
DTSTART:20220120T140000Z
DTEND:20220120T150000Z
DCREATED:20220124T122348Z
UID:Compromisso-c3697cda5ca046be9e8239d192520364
SEQUENCE:0
LAST-MODIFIED:20220124T122348Z
SUMMARY:Reunião Ministério da Economia
DESCRIPTION:SIORG
LOCATION:Reitoria
PRIORITY:3
TRANSP:0
END:VEVENT
END:VCALENDAR
