BEGIN:VCALENDAR
PRODID:brasil.gov.agenda
VERSION:1.0
BEGIN:VEVENT
DTSTART:20220120T090000Z
DTEND:20220120T110000Z
DCREATED:20220124T122223Z
UID:Compromisso-ac8e9866f0034055ae51ffd3e94fcfb8
SEQUENCE:0
LAST-MODIFIED:20220124T122223Z
SUMMARY:Reunião com Secretário de Empreendedorismo e Inovação - Ministério da Ciência\, Tecnologia e Inovações
LOCATION:Reitoria
PRIORITY:3
TRANSP:0
END:VEVENT
END:VCALENDAR
