BEGIN:VCALENDAR
PRODID:brasil.gov.agenda
VERSION:1.0
BEGIN:VEVENT
DTSTART:20220120T110000Z
DTEND:20220120T120000Z
DCREATED:20220124T122302Z
UID:Compromisso-69fdf66a048045dea3288d560b7ed2f8
SEQUENCE:0
LAST-MODIFIED:20220124T122302Z
SUMMARY:Reunião com o Ministro Substituto: Victor Godoy Veiga - Ministério da Educação
DESCRIPTION:Repasse Recursos Governo do Estado de Minas Gerais
LOCATION:Reitoria
PRIORITY:3
TRANSP:0
END:VEVENT
END:VCALENDAR
