BEGIN:VCALENDAR
PRODID:brasil.gov.agenda
VERSION:1.0
BEGIN:VEVENT
DTSTART:20220120T150000Z
DTEND:20220120T180000Z
DCREATED:20220124T122411Z
UID:Compromisso-2824e2b9c8324f52b6725d92426d6d8d
SEQUENCE:0
LAST-MODIFIED:20220124T122411Z
SUMMARY:Despachos Internos
LOCATION:Reitoria
PRIORITY:3
TRANSP:0
END:VEVENT
END:VCALENDAR
