BEGIN:VCALENDAR
PRODID:brasil.gov.agenda
VERSION:1.0
BEGIN:VEVENT
DTSTART:20220119T110000Z
DTEND:20220119T120000Z
DCREATED:20220119T181334Z
UID:Compromisso-a27d776b3b4d4770a081b765d93ef383
SEQUENCE:0
LAST-MODIFIED:20220119T181334Z
SUMMARY:Visita Institucional no Ministério da Advocacia Geral da União
LOCATION:Reitoria
PRIORITY:3
TRANSP:0
END:VEVENT
END:VCALENDAR
