BEGIN:VCALENDAR
PRODID:brasil.gov.agenda
VERSION:1.0
BEGIN:VEVENT
DTSTART:20220118T140000Z
DTEND:20220118T180000Z
DCREATED:20220119T181129Z
UID:Compromisso-5a2b5183e41a4c47888f9ec852ae695e
SEQUENCE:0
LAST-MODIFIED:20220119T181129Z
SUMMARY:Viagem à Brasília
LOCATION:Reitoria
PRIORITY:3
TRANSP:0
END:VEVENT
END:VCALENDAR
