BEGIN:VCALENDAR
PRODID:brasil.gov.agenda
VERSION:1.0
BEGIN:VEVENT
DTSTART:20220118T080000Z
DTEND:20220118T120000Z
DCREATED:20220119T181048Z
UID:Compromisso-6086b869788d406b966bae59d4ecb130
SEQUENCE:0
LAST-MODIFIED:20220119T181048Z
SUMMARY:Despachos Internos
LOCATION:Reitoria
PRIORITY:3
TRANSP:0
END:VEVENT
END:VCALENDAR
