BEGIN:VCALENDAR
PRODID:brasil.gov.agenda
VERSION:1.0
BEGIN:VEVENT
DTSTART:20220117T140000Z
DTEND:20220117T153000Z
DCREATED:20220119T180829Z
UID:Compromisso-d12987783ed14240bae186eb9520bc52
SEQUENCE:0
LAST-MODIFIED:20220119T180829Z
SUMMARY:Reunião Reitor e Pró-Reitores
DESCRIPTION:Webinários
LOCATION:Reitoria
PRIORITY:3
TRANSP:0
END:VEVENT
END:VCALENDAR
