BEGIN:VCALENDAR
PRODID:brasil.gov.agenda
VERSION:1.0
BEGIN:VEVENT
DTSTART:20220117T080000Z
DTEND:20220117T100000Z
DCREATED:20220119T180628Z
UID:Compromisso-96b09bacd91444d59dbb134edd605b71
SEQUENCE:0
LAST-MODIFIED:20220119T180628Z
SUMMARY:Despachos Internos
LOCATION:Reitoria
PRIORITY:3
TRANSP:0
END:VEVENT
END:VCALENDAR
