BEGIN:VCALENDAR
PRODID:brasil.gov.agenda
VERSION:1.0
BEGIN:VEVENT
DTSTART:20220117T163000Z
DTEND:20220117T180000Z
DCREATED:20220119T180947Z
UID:Compromisso-307bee3037d04a4997f7fabecbd64eaf
SEQUENCE:0
LAST-MODIFIED:20220119T180947Z
SUMMARY:Despachos Internos
LOCATION:Reitoria
PRIORITY:3
TRANSP:0
END:VEVENT
END:VCALENDAR
