BEGIN:VCALENDAR
PRODID:brasil.gov.agenda
VERSION:1.0
BEGIN:VEVENT
DTSTART:20220114T080000Z
DTEND:20220114T093000Z
DCREATED:20220119T180428Z
UID:Compromisso-b30d9171bd9b4baeb6724c47bb1b1ea1
SEQUENCE:0
LAST-MODIFIED:20220119T180428Z
SUMMARY:Reunião Reitor e Comissão Especial para Planejamento e Implantação do disposto no Decreto nº 10.139\, de 28 de novembro de 2019
DESCRIPTION:Constituir equipe interna
LOCATION:Reitoria
PRIORITY:3
TRANSP:0
END:VEVENT
END:VCALENDAR
