BEGIN:VCALENDAR
PRODID:brasil.gov.agenda
VERSION:1.0
BEGIN:VEVENT
DTSTART:20220114T093000Z
DTEND:20220114T120000Z
DCREATED:20220119T180500Z
UID:Compromisso-8e17aa9c09d344b29c048487ef67d64b
SEQUENCE:0
LAST-MODIFIED:20220119T180500Z
SUMMARY:Despachos Internos
LOCATION:Reitoria
PRIORITY:3
TRANSP:0
END:VEVENT
END:VCALENDAR
