BEGIN:VCALENDAR
PRODID:brasil.gov.agenda
VERSION:1.0
BEGIN:VEVENT
DTSTART:20220114T140000Z
DTEND:20220114T180000Z
DCREATED:20220119T180533Z
UID:Compromisso-b0523da186664a8eb2194e6d22fb136e
SEQUENCE:0
LAST-MODIFIED:20220119T180533Z
SUMMARY:Despachos Internos
LOCATION:Reitoria
PRIORITY:3
TRANSP:0
END:VEVENT
END:VCALENDAR
