BEGIN:VCALENDAR
PRODID:brasil.gov.agenda
VERSION:1.0
BEGIN:VEVENT
DTSTART:20220113T170000Z
DTEND:20220113T180000Z
DCREATED:20220113T182017Z
UID:Compromisso-6e70511a27d0449bb60959e729455c00
SEQUENCE:0
LAST-MODIFIED:20220113T182017Z
SUMMARY:Reunião Reitor e PROPLAN
DESCRIPTION:Orçamento 2022
LOCATION:Reitoria
PRIORITY:3
TRANSP:0
END:VEVENT
END:VCALENDAR
