BEGIN:VCALENDAR
PRODID:brasil.gov.agenda
VERSION:1.0
BEGIN:VEVENT
DTSTART:20220113T150000Z
DTEND:20220113T160000Z
DCREATED:20220113T181852Z
UID:Compromisso-ac05bf9089434ffba914c2c9faae504b
SEQUENCE:0
LAST-MODIFIED:20220113T181852Z
SUMMARY:Reunião Reitor e Procuradoria Geral Federal
DESCRIPTION:Pauta: Assunto de pessoal e assessoramento judicial da UFV
 JM
LOCATION:Reitoria
PRIORITY:3
TRANSP:0
END:VEVENT
END:VCALENDAR
