BEGIN:VCALENDAR
PRODID:brasil.gov.agenda
VERSION:1.0
BEGIN:VEVENT
DTSTART:20220113T160000Z
DTEND:20220113T170000Z
DCREATED:20220113T181941Z
UID:Compromisso-eeb482fde3754259a3ee11bc0503c92a
SEQUENCE:0
LAST-MODIFIED:20220113T181941Z
SUMMARY:Reunião Reitor e PROAD
DESCRIPTION:Arquivo - Sistematização e legislação
LOCATION:Reitoria
PRIORITY:3
TRANSP:0
END:VEVENT
END:VCALENDAR
