BEGIN:VCALENDAR
PRODID:brasil.gov.agenda
VERSION:1.0
BEGIN:VEVENT
DTSTART:20220113T093000Z
DTEND:20220113T120000Z
DCREATED:20220113T181738Z
UID:Compromisso-9b53ae9864b7446f9e43599e178b49ec
SEQUENCE:0
LAST-MODIFIED:20220113T181738Z
SUMMARY:Reunião Reitor e Gestores
DESCRIPTION:Continuidade e apresentação dos projetos pela PROACE e s
 etor de produção
LOCATION:Reitoria
PRIORITY:3
TRANSP:0
END:VEVENT
END:VCALENDAR
