BEGIN:VCALENDAR
PRODID:brasil.gov.agenda
VERSION:1.0
BEGIN:VEVENT
DTSTART:20220113T180000Z
DTEND:20220113T190000Z
DCREATED:20220113T182101Z
UID:Compromisso-fb16029dcdc74bb59bd573d8838a7897
SEQUENCE:0
LAST-MODIFIED:20220113T182101Z
SUMMARY:Reunião Reitor e Gestores
DESCRIPTION:Definição das demandas da prateleira de projetos
LOCATION:Reitoria
PRIORITY:3
TRANSP:0
END:VEVENT
END:VCALENDAR
