BEGIN:VCALENDAR
PRODID:brasil.gov.agenda
VERSION:1.0
BEGIN:VEVENT
DTSTART:20220113T080000Z
DTEND:20220113T093000Z
DCREATED:20220113T181655Z
UID:Compromisso-2672a4d30c134ed990c9eba7617dde27
SEQUENCE:0
LAST-MODIFIED:20220113T181655Z
SUMMARY:Reunião Reitor\, Diretoria da FCBS e FAMED
DESCRIPTION:Ambulatórios do curso da saúde do Campus I
LOCATION:Reitoria
PRIORITY:3
TRANSP:0
END:VEVENT
END:VCALENDAR
